BEGIN:VCALENDAR
VERSION:2.0
PRODID:-//demosphere.net//NONSGML kigkonsult.se iCalcreator 2.22.1//
METHOD:REQUEST
X-WR-TIMEZONE:Europe/Athens
BEGIN:VEVENT
UID:https://thessaloniki.kinimatorama.net/event/171532
DTSTAMP:20241127T150000Z
DESCRIPTION:περισσότερες πληροφορίες: https://thessaloniki.kinimatorama.net
 /event/171532 
DTSTART:20241127T150000Z
DTEND:20241127T160000Z
GEO:+40.633903;+22.95648
LOCATION:Θεσσαλονίκη\, \nΣχολή Θετικών Επιστημών (ΣΘΕ) ΑΠΘ
SUMMARY:Συγγραφή ανοιχτού πλαισίου τμήματος Γεωλογίας
URL:https://thessaloniki.kinimatorama.net/event/171532
END:VEVENT
END:VCALENDAR
