BEGIN:VCALENDAR
VERSION:2.0
PRODID:-//demosphere.net//NONSGML kigkonsult.se iCalcreator 2.22.1//
METHOD:REQUEST
X-WR-TIMEZONE:Europe/Athens
BEGIN:VEVENT
UID:https://thessaloniki.kinimatorama.net/event/171667
DTSTAMP:20241205T160000Z
DESCRIPTION:περισσότερες πληροφορίες: https://thessaloniki.kinimatorama.net
 /event/171667 
DTSTART:20241205T160000Z
DTEND:20241205T170000Z
GEO:+40.633903;+22.95648
LOCATION:Θεσσαλονίκη\, \nΣχολή Θετικών Επιστημών (ΣΘΕ) ΑΠΘ
SUMMARY:Συνέλευση για τη διοργάνωση εκδήλωσης στη μνήμη του συντρόφου A. Bo
 nanno
URL:https://thessaloniki.kinimatorama.net/event/171667
END:VEVENT
END:VCALENDAR
