BEGIN:VCALENDAR
VERSION:2.0
PRODID:-//demosphere.net//NONSGML kigkonsult.se iCalcreator 2.22.1//
METHOD:REQUEST
X-WR-TIMEZONE:Europe/Athens
BEGIN:VEVENT
UID:https://thessaloniki.kinimatorama.net/event/171710
DTSTAMP:20241207T200000Z
DESCRIPTION:περισσότερες πληροφορίες: https://thessaloniki.kinimatorama.net
 /event/171710 
DTSTART:20241207T200000Z
DTEND:20241207T210000Z
GEO:+38.241577;+21.741262
LOCATION:Πάτρα\, \nΑυτοδιαχειριζόμενος χώρος Τέχνασμα \nΓερμανού 93 και Μπο
 υκαούρη
SUMMARY:Bluebeat Ska Rocksteady βινυλοβραδιά
URL:https://thessaloniki.kinimatorama.net/event/171710
END:VEVENT
END:VCALENDAR
