BEGIN:VCALENDAR
VERSION:2.0
PRODID:-//demosphere.net//NONSGML kigkonsult.se iCalcreator 2.22.1//
METHOD:REQUEST
X-WR-TIMEZONE:Europe/Athens
BEGIN:VEVENT
UID:https://thessaloniki.kinimatorama.net/event/17176
DTSTAMP:20120216T070000Z
DESCRIPTION:περισσότερες πληροφορίες: https://thessaloniki.kinimatorama.net
 /event/17176 
DTSTART:20120216T070000Z
DTEND:20120216T080000Z
GEO:+37.995376;+23.743086
LOCATION:Αθήνα\, \nΔικαστήρια Ευελπίδων
SUMMARY:(Αναβολή) Συγκέντρωση αλληλεγγύης στα δικαστήρια για κάγκελα Φιλοπά
 ππου
URL:https://thessaloniki.kinimatorama.net/event/17176
END:VEVENT
END:VCALENDAR
