BEGIN:VCALENDAR
VERSION:2.0
PRODID:-//demosphere.net//NONSGML kigkonsult.se iCalcreator 2.22.1//
METHOD:REQUEST
X-WR-TIMEZONE:Europe/Athens
BEGIN:VEVENT
UID:https://thessaloniki.kinimatorama.net/event/172006
DTSTAMP:20241211T070000Z
DESCRIPTION:περισσότερες πληροφορίες: https://thessaloniki.kinimatorama.net
 /event/172006 
DTSTART:20241211T070000Z
DTEND:20241211T080000Z
GEO:+37.995376;+23.743086
LOCATION:Αθήνα\, \nΔικαστήρια Ευελπίδων
SUMMARY:Δίκη Σεπολίων-απαγορευμένη πορεία Πολυτεχνείου
URL:https://thessaloniki.kinimatorama.net/event/172006
END:VEVENT
END:VCALENDAR
