BEGIN:VCALENDAR
VERSION:2.0
PRODID:-//demosphere.net//NONSGML kigkonsult.se iCalcreator 2.22.1//
METHOD:REQUEST
X-WR-TIMEZONE:Europe/Athens
BEGIN:VEVENT
UID:https://thessaloniki.kinimatorama.net/event/172151
DTSTAMP:20241218T070000Z
DESCRIPTION:περισσότερες πληροφορίες: https://thessaloniki.kinimatorama.net
 /event/172151 
DTSTART:20241218T070000Z
DTEND:20241218T080000Z
GEO:+40.639326;+22.932823
LOCATION:Θεσσαλονίκη\, \nΔικαστήρια Θεσσαλονίκης
SUMMARY:[Θεσσαλονίκη] Συγκέντρωση αλληλεγγύης στους/ις συλληφθέντες/είσες τ
 ης 6/12
URL:https://thessaloniki.kinimatorama.net/event/172151
END:VEVENT
END:VCALENDAR
