BEGIN:VCALENDAR
VERSION:2.0
PRODID:-//demosphere.net//NONSGML kigkonsult.se iCalcreator 2.22.1//
METHOD:REQUEST
X-WR-TIMEZONE:Europe/Athens
BEGIN:VEVENT
UID:https://thessaloniki.kinimatorama.net/event/172181
DTSTAMP:20241212T180000Z
DESCRIPTION:περισσότερες πληροφορίες: https://thessaloniki.kinimatorama.net
 /event/172181 
DTSTART:20241212T180000Z
DTEND:20241212T190000Z
GEO:+37.9895;+23.737333
LOCATION:Αθήνα\, \nΕκλάμψεις \nχώρος βιβλίου στα Εξάρχεια \nΙουστινιανού 13
SUMMARY:Ανοιχτό θεατρικό εργαστήρι
URL:https://thessaloniki.kinimatorama.net/event/172181
END:VEVENT
END:VCALENDAR
