BEGIN:VCALENDAR
VERSION:2.0
PRODID:-//demosphere.net//NONSGML kigkonsult.se iCalcreator 2.22.1//
METHOD:REQUEST
X-WR-TIMEZONE:Europe/Athens
BEGIN:VEVENT
UID:https://thessaloniki.kinimatorama.net/event/172698
DTSTAMP:20250113T160000Z
DESCRIPTION:περισσότερες πληροφορίες: https://thessaloniki.kinimatorama.net
 /event/172698 
DTSTART:20250113T160000Z
DTEND:20250113T170000Z
GEO:+40.633903;+22.95648
LOCATION:Θεσσαλονίκη\, \nΣχολή Θετικών Επιστημών (ΣΘΕ) ΑΠΘ
SUMMARY:Αν.συνέλευση αλληλεγγύης στα διωκόμενα συντρόφια της υπόθεσης Αμπ/κ
 ήπων
URL:https://thessaloniki.kinimatorama.net/event/172698
END:VEVENT
END:VCALENDAR
