BEGIN:VCALENDAR
VERSION:2.0
PRODID:-//demosphere.net//NONSGML kigkonsult.se iCalcreator 2.22.1//
METHOD:REQUEST
X-WR-TIMEZONE:Europe/Athens
BEGIN:VEVENT
UID:https://thessaloniki.kinimatorama.net/event/173050
DTSTAMP:20250127T170000Z
DESCRIPTION:περισσότερες πληροφορίες: https://thessaloniki.kinimatorama.net
 /event/173050 
DTSTART:20250127T170000Z
DTEND:20250127T180000Z
GEO:+40.633903;+22.95648
LOCATION:Θεσσαλονίκη\, \nΣχολή Θετικών Επιστημών (ΣΘΕ) ΑΠΘ
SUMMARY:Ανοιχτή συνέλευση αλληλεγγύης στα διωκόμενα συντρόφια της υπόθεσης 
 Αμπ/κήπων
URL:https://thessaloniki.kinimatorama.net/event/173050
END:VEVENT
END:VCALENDAR
