BEGIN:VCALENDAR
VERSION:2.0
PRODID:-//demosphere.net//NONSGML kigkonsult.se iCalcreator 2.22.1//
METHOD:REQUEST
X-WR-TIMEZONE:Europe/Athens
BEGIN:VEVENT
UID:https://thessaloniki.kinimatorama.net/event/173065
DTSTAMP:20250128T070000Z
DESCRIPTION:περισσότερες πληροφορίες: https://thessaloniki.kinimatorama.net
 /event/173065 
DTSTART:20250128T070000Z
DTEND:20250128T080000Z
GEO:+40.639326;+22.932823
LOCATION:Θεσσαλονίκη\, \nΔικαστήρια Θεσσαλονίκης
SUMMARY:[Θεσσαλονίκη] Συγκέντρωση αλληλεγγύης στους διωκόμενους συντρόφους 
 Δ.Σ. & Ρ.Ζ.
URL:https://thessaloniki.kinimatorama.net/event/173065
END:VEVENT
END:VCALENDAR
