BEGIN:VCALENDAR
VERSION:2.0
PRODID:-//demosphere.net//NONSGML kigkonsult.se iCalcreator 2.22.1//
METHOD:REQUEST
X-WR-TIMEZONE:Europe/Athens
BEGIN:VEVENT
UID:https://thessaloniki.kinimatorama.net/event/173071
DTSTAMP:20250124T173000Z
DESCRIPTION:περισσότερες πληροφορίες: https://thessaloniki.kinimatorama.net
 /event/173071 
DTSTART:20250124T173000Z
DTEND:20250124T183000Z
GEO:+40.633903;+22.95648
LOCATION:Θεσσαλονίκη\, \nΣχολή Θετικών Επιστημών (ΣΘΕ) ΑΠΘ
SUMMARY:Ανοιχτός συντονισμός δράσεων αλληλεγγύης στον απεργό πείνας & δίψας
  Κ.Τζανέτο
URL:https://thessaloniki.kinimatorama.net/event/173071
END:VEVENT
END:VCALENDAR
