BEGIN:VCALENDAR
VERSION:2.0
PRODID:-//demosphere.net//NONSGML kigkonsult.se iCalcreator 2.22.1//
METHOD:REQUEST
X-WR-TIMEZONE:Europe/Athens
BEGIN:VEVENT
UID:https://thessaloniki.kinimatorama.net/event/173265
DTSTAMP:20250131T190900Z
DESCRIPTION:περισσότερες πληροφορίες: https://thessaloniki.kinimatorama.net
 /event/173265 
DTSTART:20250131T190900Z
DTEND:20250131T200900Z
GEO:+40.633903;+22.95648
LOCATION:Θεσσαλονίκη\, \nΣχολή Θετικών Επιστημών (ΣΘΕ) ΑΠΘ
SUMMARY:Προβολή ταινιών: Dirceting Hell (2011) + Πρωινή Περίπολος (1987)
URL:https://thessaloniki.kinimatorama.net/event/173265
END:VEVENT
END:VCALENDAR
