BEGIN:VCALENDAR
VERSION:2.0
PRODID:-//demosphere.net//NONSGML kigkonsult.se iCalcreator 2.22.1//
METHOD:REQUEST
X-WR-TIMEZONE:Europe/Athens
BEGIN:VEVENT
UID:https://thessaloniki.kinimatorama.net/event/173281
DTSTAMP:20250201T180000Z
DESCRIPTION:περισσότερες πληροφορίες: https://thessaloniki.kinimatorama.net
 /event/173281 
DTSTART:20250201T180000Z
DTEND:20250201T190000Z
GEO:+38.006049;+23.725857
LOCATION:Αθήνα\, \nΜανουσογιάννη 6 \nΆγιος Νικόλαος \n(3' περπάτημα από στα
 θμό ΗΣΑΠ ΑΓ.ΝΙΚΟΛΑΟΣ)
SUMMARY:Queer cocktail support party- Κουηρ βραδιά κοκτέιλ για ενισχυση του
  χώρου μας
URL:https://thessaloniki.kinimatorama.net/event/173281
END:VEVENT
END:VCALENDAR
