BEGIN:VCALENDAR
VERSION:2.0
PRODID:-//demosphere.net//NONSGML kigkonsult.se iCalcreator 2.22.1//
METHOD:REQUEST
X-WR-TIMEZONE:Europe/Athens
BEGIN:VEVENT
UID:https://thessaloniki.kinimatorama.net/event/173290
DTSTAMP:20250130T180000Z
DESCRIPTION:περισσότερες πληροφορίες: https://thessaloniki.kinimatorama.net
 /event/173290 
DTSTART:20250130T180000Z
DTEND:20250130T190000Z
GEO:+37.9895;+23.737333
LOCATION:Αθήνα\, \nΕκλάμψεις \nχώρος βιβλίου στα Εξάρχεια \nΙουστινιανού 13
SUMMARY:Θεατρικό εργαστήρι
URL:https://thessaloniki.kinimatorama.net/event/173290
END:VEVENT
END:VCALENDAR
