BEGIN:VCALENDAR
VERSION:2.0
PRODID:-//demosphere.net//NONSGML kigkonsult.se iCalcreator 2.22.1//
METHOD:REQUEST
X-WR-TIMEZONE:Europe/Athens
BEGIN:VEVENT
UID:https://thessaloniki.kinimatorama.net/event/173296
DTSTAMP:20250130T070000Z
DESCRIPTION:περισσότερες πληροφορίες: https://thessaloniki.kinimatorama.net
 /event/173296 
DTSTART:20250130T070000Z
DTEND:20250130T080000Z
GEO:+37.995376;+23.743086
LOCATION:Αθήνα\, \nΔικαστήρια Ευελπίδων
SUMMARY:Συγκέντρωση Αλληλεγγύης Στη Δίκη Των 2 Συντρόφων Από Την Επίθεση Στ
 α Προσφυγικά
URL:https://thessaloniki.kinimatorama.net/event/173296
END:VEVENT
END:VCALENDAR
