BEGIN:VCALENDAR
VERSION:2.0
PRODID:-//demosphere.net//NONSGML kigkonsult.se iCalcreator 2.22.1//
METHOD:REQUEST
X-WR-TIMEZONE:Europe/Athens
BEGIN:VEVENT
UID:https://thessaloniki.kinimatorama.net/event/173341
DTSTAMP:20250203T170000Z
DESCRIPTION:περισσότερες πληροφορίες: https://thessaloniki.kinimatorama.net
 /event/173341 
DTSTART:20250203T170000Z
DTEND:20250203T180000Z
GEO:+40.633903;+22.95648
LOCATION:Θεσσαλονίκη\, \nΣχολή Θετικών Επιστημών (ΣΘΕ) ΑΠΘ
SUMMARY:Ανοιχτή συνέλευση αλ/γγύης στα διωκόμενα συντρόφια της υπόθεσης Αμπ
 /κήπων
URL:https://thessaloniki.kinimatorama.net/event/173341
END:VEVENT
END:VCALENDAR
