BEGIN:VCALENDAR
VERSION:2.0
PRODID:-//demosphere.net//NONSGML kigkonsult.se iCalcreator 2.22.1//
METHOD:REQUEST
X-WR-TIMEZONE:Europe/Athens
BEGIN:VEVENT
UID:https://thessaloniki.kinimatorama.net/event/173349
DTSTAMP:20250207T193000Z
DESCRIPTION:περισσότερες πληροφορίες: https://thessaloniki.kinimatorama.net
 /event/173349 
DTSTART:20250207T193000Z
DTEND:20250207T203000Z
GEO:+38.241577;+21.741262
LOCATION:Πάτρα\, \nΑυτοδιαχειριζόμενος χώρος Τέχνασμα \nΓερμανού 93 και Μπο
 υκαούρη
SUMMARY:DIY live αλληλεγγύης στις καταλήψεις
URL:https://thessaloniki.kinimatorama.net/event/173349
END:VEVENT
END:VCALENDAR
