BEGIN:VCALENDAR
VERSION:2.0
PRODID:-//demosphere.net//NONSGML kigkonsult.se iCalcreator 2.22.1//
METHOD:REQUEST
X-WR-TIMEZONE:Europe/Athens
BEGIN:VEVENT
UID:https://thessaloniki.kinimatorama.net/event/17336
DTSTAMP:20120216T080000Z
DESCRIPTION:περισσότερες πληροφορίες: https://thessaloniki.kinimatorama.net
 /event/17336 
DTSTART:20120216T080000Z
DTEND:20120216T090000Z
GEO:+37.995376;+23.743086
LOCATION:Αθήνα\, \nΔικαστήρια Ευελπίδων
SUMMARY:Συγκέντρωση Αλληλεγγύης στους 4 συλληφθέντες της 12/2
URL:https://thessaloniki.kinimatorama.net/event/17336
END:VEVENT
END:VCALENDAR
