BEGIN:VCALENDAR
VERSION:2.0
PRODID:-//demosphere.net//NONSGML kigkonsult.se iCalcreator 2.22.1//
METHOD:REQUEST
X-WR-TIMEZONE:Europe/Athens
BEGIN:VEVENT
UID:https://thessaloniki.kinimatorama.net/event/173576
DTSTAMP:20250209T170000Z
DESCRIPTION:περισσότερες πληροφορίες: https://thessaloniki.kinimatorama.net
 /event/173576 
DTSTART:20250209T170000Z
DTEND:20250209T180000Z
GEO:+40.634578;+22.951302
LOCATION:Θεσσαλονίκη\, \nInfolibre \nΑυτοδιαχειριζόμενος χώρος για την ανεξ
 άρτητη ενημέρωση και επικοινωνία \nΥπουργού Φιλίππου Δραγούμη 4 \n(περιοχή
  Ροτόντας)
SUMMARY:Εκδήλωση ενάντια στη Συγκάλυψη του Εγκλήματος των Τεμπών
URL:https://thessaloniki.kinimatorama.net/event/173576
END:VEVENT
END:VCALENDAR
