BEGIN:VCALENDAR
VERSION:2.0
PRODID:-//demosphere.net//NONSGML kigkonsult.se iCalcreator 2.22.1//
METHOD:REQUEST
X-WR-TIMEZONE:Europe/Athens
BEGIN:VEVENT
UID:https://thessaloniki.kinimatorama.net/event/174056
DTSTAMP:20250225T170000Z
DESCRIPTION:περισσότερες πληροφορίες: https://thessaloniki.kinimatorama.net
 /event/174056 
DTSTART:20250225T170000Z
DTEND:20250225T180000Z
GEO:+40.633903;+22.95648
LOCATION:Θεσσαλονίκη\, \nΣχολή Θετικών Επιστημών (ΣΘΕ) ΑΠΘ
SUMMARY:Εκδήλωση - workshop: Πώς ανακαλύπτουμε τις “Βρωμοδουλειές” του πανε
 πιστημίου\;
URL:https://thessaloniki.kinimatorama.net/event/174056
END:VEVENT
END:VCALENDAR
