BEGIN:VCALENDAR
VERSION:2.0
PRODID:-//demosphere.net//NONSGML kigkonsult.se iCalcreator 2.22.1//
METHOD:REQUEST
X-WR-TIMEZONE:Europe/Athens
BEGIN:VEVENT
UID:https://thessaloniki.kinimatorama.net/event/174139
DTSTAMP:20250224T090000Z
DESCRIPTION:περισσότερες πληροφορίες: https://thessaloniki.kinimatorama.net
 /event/174139 
DTSTART:20250224T090000Z
DTEND:20250224T100000Z
GEO:+40.633903;+22.95648
LOCATION:Θεσσαλονίκη\, \nΣχολή Θετικών Επιστημών (ΣΘΕ) ΑΠΘ
SUMMARY:Κάλεσμα για συγγραφή Ανοιχτού Πλαισίου Σ.Φ. Φαρμακευτικής
URL:https://thessaloniki.kinimatorama.net/event/174139
END:VEVENT
END:VCALENDAR
