BEGIN:VCALENDAR
VERSION:2.0
PRODID:-//demosphere.net//NONSGML kigkonsult.se iCalcreator 2.22.1//
METHOD:REQUEST
X-WR-TIMEZONE:Europe/Athens
BEGIN:VEVENT
UID:https://thessaloniki.kinimatorama.net/event/174141
DTSTAMP:20250225T093000Z
DESCRIPTION:περισσότερες πληροφορίες: https://thessaloniki.kinimatorama.net
 /event/174141 
DTSTART:20250225T093000Z
DTEND:20250225T103000Z
GEO:+40.633903;+22.95648
LOCATION:Θεσσαλονίκη\, \nΣχολή Θετικών Επιστημών (ΣΘΕ) ΑΠΘ
SUMMARY:Γενική Συνέλευση Σ.Φ. Φαρμακευτικής
URL:https://thessaloniki.kinimatorama.net/event/174141
END:VEVENT
END:VCALENDAR
