BEGIN:VCALENDAR
VERSION:2.0
PRODID:-//demosphere.net//NONSGML kigkonsult.se iCalcreator 2.22.1//
METHOD:REQUEST
X-WR-TIMEZONE:Europe/Athens
BEGIN:VEVENT
UID:https://thessaloniki.kinimatorama.net/event/174349
DTSTAMP:20250307T190900Z
DESCRIPTION:περισσότερες πληροφορίες: https://thessaloniki.kinimatorama.net
 /event/174349 
DTSTART:20250307T190900Z
DTEND:20250307T200900Z
GEO:+40.633903;+22.95648
LOCATION:Θεσσαλονίκη\, \nΣχολή Θετικών Επιστημών (ΣΘΕ) ΑΠΘ
SUMMARY:Προβολή ταινίας: 'Ghost Dog: The Way of the Samurai'
URL:https://thessaloniki.kinimatorama.net/event/174349
END:VEVENT
END:VCALENDAR
