BEGIN:VCALENDAR
VERSION:2.0
PRODID:-//demosphere.net//NONSGML kigkonsult.se iCalcreator 2.22.1//
METHOD:REQUEST
X-WR-TIMEZONE:Europe/Athens
BEGIN:VEVENT
UID:https://thessaloniki.kinimatorama.net/event/174531
DTSTAMP:20250313T190000Z
DESCRIPTION:περισσότερες πληροφορίες: https://thessaloniki.kinimatorama.net
 /event/174531 
DTSTART:20250313T190000Z
DTEND:20250313T200000Z
GEO:+38.241577;+21.741262
LOCATION:Πάτρα\, \nΑυτοδιαχειριζόμενος χώρος Τέχνασμα \nΓερμανού 93 και Μπο
 υκαούρη
SUMMARY:Προβολή του ντοκιμαντέρ «Μια Ματιά Στην Πανκ Και DIY Σκηνή Στην Ελλ
 άδα»
URL:https://thessaloniki.kinimatorama.net/event/174531
END:VEVENT
END:VCALENDAR
