BEGIN:VCALENDAR
VERSION:2.0
PRODID:-//demosphere.net//NONSGML kigkonsult.se iCalcreator 2.22.1//
METHOD:REQUEST
X-WR-TIMEZONE:Europe/Athens
BEGIN:VEVENT
UID:https://thessaloniki.kinimatorama.net/event/174731
DTSTAMP:20250313T070000Z
DESCRIPTION:περισσότερες πληροφορίες: https://thessaloniki.kinimatorama.net
 /event/174731 
DTSTART:20250313T070000Z
DTEND:20250313T080000Z
GEO:+40.639326;+22.932823
LOCATION:Θεσσαλονίκη\, \nΔικαστήρια Θεσσαλονίκης
SUMMARY:Συγκέντρωση αλληλεγγύης
URL:https://thessaloniki.kinimatorama.net/event/174731
END:VEVENT
END:VCALENDAR
