BEGIN:VCALENDAR
VERSION:2.0
PRODID:-//demosphere.net//NONSGML kigkonsult.se iCalcreator 2.22.1//
METHOD:REQUEST
X-WR-TIMEZONE:Europe/Athens
BEGIN:VEVENT
UID:https://thessaloniki.kinimatorama.net/event/174876
DTSTAMP:20250322T170000Z
DESCRIPTION:περισσότερες πληροφορίες: https://thessaloniki.kinimatorama.net
 /event/174876 
DTSTART:20250322T170000Z
DTEND:20250322T180000Z
GEO:+38.00095;+23.737762
LOCATION:Αθήνα\, \nΔημοτική Αγορά Κυψέλης \nΦωκίωνος Νέγρη 42
SUMMARY:Συγκέντρωση-Πορεία αλληλεγγύης στον αναρχικό σύντροφο Κ.Κ.
URL:https://thessaloniki.kinimatorama.net/event/174876
END:VEVENT
END:VCALENDAR
