BEGIN:VCALENDAR
VERSION:2.0
PRODID:-//demosphere.net//NONSGML kigkonsult.se iCalcreator 2.22.1//
METHOD:REQUEST
X-WR-TIMEZONE:Europe/Athens
BEGIN:VEVENT
UID:https://thessaloniki.kinimatorama.net/event/174893
DTSTAMP:20250313T050000Z
DESCRIPTION:περισσότερες πληροφορίες: https://thessaloniki.kinimatorama.net
 /event/174893 
DTSTART:20250313T050000Z
DTEND:20250313T060000Z
GEO:+40.633903;+22.95648
LOCATION:Θεσσαλονίκη\, \nΣχολή Θετικών Επιστημών (ΣΘΕ) ΑΠΘ
SUMMARY:Πρόγραμμα κατάληψης ΦΣ Γεωλογίας
URL:https://thessaloniki.kinimatorama.net/event/174893
END:VEVENT
END:VCALENDAR
