BEGIN:VCALENDAR
VERSION:2.0
PRODID:-//demosphere.net//NONSGML kigkonsult.se iCalcreator 2.22.1//
METHOD:REQUEST
X-WR-TIMEZONE:Europe/Athens
BEGIN:VEVENT
UID:https://thessaloniki.kinimatorama.net/event/175025
DTSTAMP:20250315T160000Z
DESCRIPTION:περισσότερες πληροφορίες: https://thessaloniki.kinimatorama.net
 /event/175025 
DTSTART:20250315T160000Z
DTEND:20250315T170000Z
GEO:+40.633903;+22.95648
LOCATION:Θεσσαλονίκη\, \nΣχολή Θετικών Επιστημών (ΣΘΕ) ΑΠΘ
SUMMARY:Συγγραφή Ανοιχτού Πλαισίου για την Γενική Συνέλευση του ΣΦ Γεωλογία
 ς
URL:https://thessaloniki.kinimatorama.net/event/175025
END:VEVENT
END:VCALENDAR
