BEGIN:VCALENDAR
VERSION:2.0
PRODID:-//demosphere.net//NONSGML kigkonsult.se iCalcreator 2.22.1//
METHOD:REQUEST
X-WR-TIMEZONE:Europe/Athens
BEGIN:VEVENT
UID:https://thessaloniki.kinimatorama.net/event/175504
DTSTAMP:20250330T090000Z
DESCRIPTION:περισσότερες πληροφορίες: https://thessaloniki.kinimatorama.net
 /event/175504 
DTSTART:20250330T090000Z
DTEND:20250330T100000Z
GEO:+40.644005;+22.961775
LOCATION:Θεσσαλονίκη\, \nΓεντί Κουλέ (Επταπύργιο - Κάστρα)
SUMMARY:(αναβάλλεται) Ιστορικός περίπατος στο Επταπύργιο
URL:https://thessaloniki.kinimatorama.net/event/175504
END:VEVENT
END:VCALENDAR
