BEGIN:VCALENDAR
VERSION:2.0
PRODID:-//demosphere.net//NONSGML kigkonsult.se iCalcreator 2.22.1//
METHOD:REQUEST
X-WR-TIMEZONE:Europe/Athens
BEGIN:VEVENT
UID:https://thessaloniki.kinimatorama.net/event/175518
DTSTAMP:20250327T160000Z
DESCRIPTION:περισσότερες πληροφορίες: https://thessaloniki.kinimatorama.net
 /event/175518 
DTSTART:20250327T160000Z
DTEND:20250327T170000Z
GEO:+40.633903;+22.95648
LOCATION:Θεσσαλονίκη\, \nΣχολή Θετικών Επιστημών (ΣΘΕ) ΑΠΘ
SUMMARY:Ανοιχτή συζήτηση για τις κρατικές δολοφονίες και τη συνέχιση του αγ
 ώνα
URL:https://thessaloniki.kinimatorama.net/event/175518
END:VEVENT
END:VCALENDAR
