BEGIN:VCALENDAR
VERSION:2.0
PRODID:-//demosphere.net//NONSGML kigkonsult.se iCalcreator 2.22.1//
METHOD:REQUEST
X-WR-TIMEZONE:Europe/Athens
BEGIN:VEVENT
UID:https://thessaloniki.kinimatorama.net/event/175850
DTSTAMP:20250401T170000Z
DESCRIPTION:περισσότερες πληροφορίες: https://thessaloniki.kinimatorama.net
 /event/175850 
DTSTART:20250401T170000Z
DTEND:20250401T180000Z
GEO:+35.517819;+24.019203
LOCATION:Χανιά\, \nΚατάληψη Rosa Nera \nΛόφος Καστέλι\, Παλιό λιμάνι
SUMMARY:Πρόγραμμα Προβολών Απριλίου
URL:https://thessaloniki.kinimatorama.net/event/175850
END:VEVENT
END:VCALENDAR
