BEGIN:VCALENDAR
VERSION:2.0
PRODID:-//demosphere.net//NONSGML kigkonsult.se iCalcreator 2.22.1//
METHOD:REQUEST
X-WR-TIMEZONE:Europe/Athens
BEGIN:VEVENT
UID:https://thessaloniki.kinimatorama.net/event/175909
DTSTAMP:20250405T190000Z
DESCRIPTION:περισσότερες πληροφορίες: https://thessaloniki.kinimatorama.net
 /event/175909 
DTSTART:20250405T190000Z
DTEND:20250405T200000Z
GEO:+38.241577;+21.741262
LOCATION:Πάτρα\, \nΑυτοδιαχειριζόμενος χώρος Τέχνασμα \nΓερμανού 93 και Μπο
 υκαούρη
SUMMARY:reggae βραδιά
URL:https://thessaloniki.kinimatorama.net/event/175909
END:VEVENT
END:VCALENDAR
