BEGIN:VCALENDAR
VERSION:2.0
PRODID:-//demosphere.net//NONSGML kigkonsult.se iCalcreator 2.22.1//
METHOD:REQUEST
X-WR-TIMEZONE:Europe/Athens
BEGIN:VEVENT
UID:https://thessaloniki.kinimatorama.net/event/176081
DTSTAMP:20250407T100000Z
DESCRIPTION:περισσότερες πληροφορίες: https://thessaloniki.kinimatorama.net
 /event/176081 
DTSTART:20250407T100000Z
DTEND:20250407T110000Z
GEO:+40.633903;+22.95648
LOCATION:Θεσσαλονίκη\, \nΣχολή Θετικών Επιστημών (ΣΘΕ) ΑΠΘ
SUMMARY:Συγγραφή ανοιχτού πλαισίου του Σ.Φ.Φυσικού
URL:https://thessaloniki.kinimatorama.net/event/176081
END:VEVENT
END:VCALENDAR
