BEGIN:VCALENDAR
VERSION:2.0
PRODID:-//demosphere.net//NONSGML kigkonsult.se iCalcreator 2.22.1//
METHOD:REQUEST
X-WR-TIMEZONE:Europe/Athens
BEGIN:VEVENT
UID:https://thessaloniki.kinimatorama.net/event/176836
DTSTAMP:20250530T183000Z
DESCRIPTION:περισσότερες πληροφορίες: https://thessaloniki.kinimatorama.net
 /event/176836 
DTSTART:20250530T183000Z
DTEND:20250530T193000Z
GEO:+38.241577;+21.741262
LOCATION:Πάτρα\, \nΑυτοδιαχειριζόμενος χώρος Τέχνασμα \nΓερμανού 93 και Μπο
 υκαούρη
SUMMARY:Διήμερο DIY live
URL:https://thessaloniki.kinimatorama.net/event/176836
END:VEVENT
END:VCALENDAR
