BEGIN:VCALENDAR
VERSION:2.0
PRODID:-//demosphere.net//NONSGML kigkonsult.se iCalcreator 2.22.1//
METHOD:REQUEST
X-WR-TIMEZONE:Europe/Athens
BEGIN:VEVENT
UID:https://thessaloniki.kinimatorama.net/event/177003
DTSTAMP:20250512T140000Z
DESCRIPTION:περισσότερες πληροφορίες: https://thessaloniki.kinimatorama.net
 /event/177003 
DTSTART:20250512T140000Z
DTEND:20250512T150000Z
GEO:+40.628307;+22.958597
LOCATION:Θεσσαλονίκη\, \nΑίθριο Πολυτεχνείου ΑΠΘ
SUMMARY:Ανοιχτή συνέλευση υπεράσπισης Στεκιού Φυσικού
URL:https://thessaloniki.kinimatorama.net/event/177003
END:VEVENT
END:VCALENDAR
