BEGIN:VCALENDAR
VERSION:2.0
PRODID:-//demosphere.net//NONSGML kigkonsult.se iCalcreator 2.22.1//
METHOD:REQUEST
X-WR-TIMEZONE:Europe/Athens
BEGIN:VEVENT
UID:https://thessaloniki.kinimatorama.net/event/177809
DTSTAMP:20250524T090000Z
DESCRIPTION:περισσότερες πληροφορίες: https://thessaloniki.kinimatorama.net
 /event/177809 
DTSTART:20250524T090000Z
DTEND:20250524T100000Z
GEO:+39.555039;+21.767766
LOCATION:Τρίκαλα\, \nΠλατεία Ρήγα Φεραίου
SUMMARY:Συγκέντρωση αλληλεγγύης στον Παλαιστινιακό λαό
URL:https://thessaloniki.kinimatorama.net/event/177809
END:VEVENT
END:VCALENDAR
