BEGIN:VCALENDAR
VERSION:2.0
PRODID:-//demosphere.net//NONSGML kigkonsult.se iCalcreator 2.22.1//
METHOD:REQUEST
X-WR-TIMEZONE:Europe/Athens
BEGIN:VEVENT
UID:https://thessaloniki.kinimatorama.net/event/177893
DTSTAMP:20250526T063000Z
DESCRIPTION:περισσότερες πληροφορίες: https://thessaloniki.kinimatorama.net
 /event/177893 
DTSTART:20250526T063000Z
DTEND:20250526T073000Z
GEO:+37.995376;+23.743086
LOCATION:Αθήνα\, \nΔικαστήρια Ευελπίδων
SUMMARY:Δίκη των συλληφθέντων στα Σεπόλια στις 17 Νοέμβρη 2020
URL:https://thessaloniki.kinimatorama.net/event/177893
END:VEVENT
END:VCALENDAR
