BEGIN:VCALENDAR
VERSION:2.0
PRODID:-//demosphere.net//NONSGML kigkonsult.se iCalcreator 2.22.1//
METHOD:REQUEST
X-WR-TIMEZONE:Europe/Athens
BEGIN:VEVENT
UID:https://thessaloniki.kinimatorama.net/event/177944
DTSTAMP:20250527T060000Z
DESCRIPTION:περισσότερες πληροφορίες: https://thessaloniki.kinimatorama.net
 /event/177944 
DTSTART:20250527T060000Z
DTEND:20250527T070000Z
GEO:+37.995376;+23.743086
LOCATION:Αθήνα\, \nΔικαστήρια Ευελπίδων
SUMMARY:Συνέχιση της δίκης των 6 συλληφθέντων της πορείας ενάντια στην υποχ
 ρεωτική λήψη DNA
URL:https://thessaloniki.kinimatorama.net/event/177944
END:VEVENT
END:VCALENDAR
