BEGIN:VCALENDAR
VERSION:2.0
PRODID:-//demosphere.net//NONSGML kigkonsult.se iCalcreator 2.22.1//
METHOD:REQUEST
X-WR-TIMEZONE:Europe/Athens
BEGIN:VEVENT
UID:https://thessaloniki.kinimatorama.net/event/177946
DTSTAMP:20250527T060000Z
DESCRIPTION:περισσότερες πληροφορίες: https://thessaloniki.kinimatorama.net
 /event/177946 
DTSTART:20250527T060000Z
DTEND:20250527T070000Z
GEO:+40.639326;+22.932823
LOCATION:Θεσσαλονίκη\, \nΔικαστήρια Θεσσαλονίκης
SUMMARY:Κάλεσμα αλληλεγγύης σε μικροπωλήτρια της αυτοσχέδιας λαικής Ξηροκήρ
 νης
URL:https://thessaloniki.kinimatorama.net/event/177946
END:VEVENT
END:VCALENDAR
