BEGIN:VCALENDAR
VERSION:2.0
PRODID:-//demosphere.net//NONSGML kigkonsult.se iCalcreator 2.22.1//
METHOD:REQUEST
X-WR-TIMEZONE:Europe/Athens
BEGIN:VEVENT
UID:https://thessaloniki.kinimatorama.net/event/178326
DTSTAMP:20250610T160000Z
DESCRIPTION:περισσότερες πληροφορίες: https://thessaloniki.kinimatorama.net
 /event/178326 
DTSTART:20250610T160000Z
DTEND:20250610T170000Z
GEO:+40.633903;+22.95648
LOCATION:Θεσσαλονίκη\, \nΣχολή Θετικών Επιστημών (ΣΘΕ) ΑΠΘ
SUMMARY:(ΑΝΑΒΑΛΛΕΤΑΙ) Ανοιχτή κουηρφεμινιστική συνέλευση για το Pride
URL:https://thessaloniki.kinimatorama.net/event/178326
END:VEVENT
END:VCALENDAR
