BEGIN:VCALENDAR
VERSION:2.0
PRODID:-//demosphere.net//NONSGML kigkonsult.se iCalcreator 2.22.1//
METHOD:REQUEST
X-WR-TIMEZONE:Europe/Athens
BEGIN:VEVENT
UID:https://thessaloniki.kinimatorama.net/event/178368
DTSTAMP:20250616T170000Z
DESCRIPTION:περισσότερες πληροφορίες: https://thessaloniki.kinimatorama.net
 /event/178368 
DTSTART:20250616T170000Z
DTEND:20250616T180000Z
GEO:+35.517819;+24.019203
LOCATION:Χανιά\, \nΚατάληψη Rosa Nera \nΛόφος Καστέλι\, Παλιό λιμάνι
SUMMARY:21 χρόνια κατάληψη Rosa Nera
URL:https://thessaloniki.kinimatorama.net/event/178368
END:VEVENT
END:VCALENDAR
