BEGIN:VCALENDAR
VERSION:2.0
PRODID:-//demosphere.net//NONSGML kigkonsult.se iCalcreator 2.22.1//
METHOD:REQUEST
X-WR-TIMEZONE:Europe/Athens
BEGIN:VEVENT
UID:https://thessaloniki.kinimatorama.net/event/178695
DTSTAMP:20250612T170000Z
DESCRIPTION:περισσότερες πληροφορίες: https://thessaloniki.kinimatorama.net
 /event/178695 
DTSTART:20250612T170000Z
DTEND:20250612T180000Z
GEO:+39.555039;+21.767766
LOCATION:Τρίκαλα\, \nΠλατεία Ρήγα Φεραίου
SUMMARY:Συγκέντρωση και πορεία ενάντια στη συνεχιζόμενη σιωνιστική θηριωδία
URL:https://thessaloniki.kinimatorama.net/event/178695
END:VEVENT
END:VCALENDAR
