BEGIN:VCALENDAR
VERSION:2.0
PRODID:-//demosphere.net//NONSGML kigkonsult.se iCalcreator 2.22.1//
METHOD:REQUEST
X-WR-TIMEZONE:Europe/Athens
BEGIN:VEVENT
UID:https://thessaloniki.kinimatorama.net/event/179087
DTSTAMP:20250627T163000Z
DESCRIPTION:περισσότερες πληροφορίες: https://thessaloniki.kinimatorama.net
 /event/179087 
DTSTART:20250627T163000Z
DTEND:20250627T173000Z
GEO:+40.638397;+22.946565
LOCATION:Θεσσαλονίκη\, \nΠάρκο Εργατικού Κέντρου Θεσσαλονίκης \nΑριστοτέλου
 ς με Ολύμπου
SUMMARY:Punk Bar (αναβάλλεται) Νέα ημερομηνία σύντομα.
URL:https://thessaloniki.kinimatorama.net/event/179087
END:VEVENT
END:VCALENDAR
