BEGIN:VCALENDAR
VERSION:2.0
PRODID:-//demosphere.net//NONSGML kigkonsult.se iCalcreator 2.22.1//
METHOD:REQUEST
X-WR-TIMEZONE:Europe/Athens
BEGIN:VEVENT
UID:https://thessaloniki.kinimatorama.net/event/179483
DTSTAMP:20250703T163000Z
DESCRIPTION:περισσότερες πληροφορίες: https://thessaloniki.kinimatorama.net
 /event/179483 
DTSTART:20250703T163000Z
DTEND:20250703T173000Z
GEO:+37.994854;+23.740732
LOCATION:Αθήνα\, \nΠλατεία Πρωτομαγιάς \nΠεδίον του Άρεως
SUMMARY:Ανοιχτή συνέλευση φοιτητών/φοιτητριών με την Παλαιστίνη
URL:https://thessaloniki.kinimatorama.net/event/179483
END:VEVENT
END:VCALENDAR
