BEGIN:VCALENDAR
VERSION:2.0
PRODID:-//demosphere.net//NONSGML kigkonsult.se iCalcreator 2.22.1//
METHOD:REQUEST
X-WR-TIMEZONE:Europe/Athens
BEGIN:VEVENT
UID:https://thessaloniki.kinimatorama.net/event/179945
DTSTAMP:20250725T060000Z
DESCRIPTION:περισσότερες πληροφορίες: https://thessaloniki.kinimatorama.net
 /event/179945 
DTSTART:20250725T060000Z
DTEND:20250725T070000Z
GEO:+37.995376;+23.743086
LOCATION:Αθήνα\, \nΔικαστήρια Ευελπίδων
SUMMARY:Kάλεσμα αλληλεγγύης για τον συλληφθέντα σύντροφο μας Γ.Π
URL:https://thessaloniki.kinimatorama.net/event/179945
END:VEVENT
END:VCALENDAR
