BEGIN:VCALENDAR
VERSION:2.0
PRODID:-//demosphere.net//NONSGML kigkonsult.se iCalcreator 2.22.1//
METHOD:REQUEST
X-WR-TIMEZONE:Europe/Athens
BEGIN:VEVENT
UID:https://thessaloniki.kinimatorama.net/event/180750
DTSTAMP:20250909T163000Z
DESCRIPTION:περισσότερες πληροφορίες: https://thessaloniki.kinimatorama.net
 /event/180750 
DTSTART:20250909T163000Z
DTEND:20250909T173000Z
GEO:+37.996804;+23.725858
LOCATION:Αθήνα\, \nΑυτόνομο Φεμινιστικό Κέντρο για την έρευνα \nΑγίου Παντε
 λεήμονα 7Β \nπλατεία Αγίου Παντελεήμονα \n(5' περπάτημα από σταθμό ΑΤΤΙΚΗ)
SUMMARY:Ανοιχτή Συνέλευση του Solidarity with Migrants
URL:https://thessaloniki.kinimatorama.net/event/180750
END:VEVENT
END:VCALENDAR
