BEGIN:VCALENDAR
VERSION:2.0
PRODID:-//demosphere.net//NONSGML kigkonsult.se iCalcreator 2.22.1//
METHOD:REQUEST
X-WR-TIMEZONE:Europe/Athens
BEGIN:VEVENT
UID:https://thessaloniki.kinimatorama.net/event/180757
DTSTAMP:20250909T060000Z
DESCRIPTION:περισσότερες πληροφορίες: https://thessaloniki.kinimatorama.net
 /event/180757 
DTSTART:20250909T060000Z
DTEND:20250909T070000Z
GEO:+37.995376;+23.743086
LOCATION:Αθήνα\, \nΔικαστήρια Ευελπίδων
SUMMARY:[Αθήνα] Συγκέντρωση αλληλεγγύης στο συλληφθέντα σύντροφο του Σαββάτ
 ου
URL:https://thessaloniki.kinimatorama.net/event/180757
END:VEVENT
END:VCALENDAR
