BEGIN:VCALENDAR
VERSION:2.0
PRODID:-//demosphere.net//NONSGML kigkonsult.se iCalcreator 2.22.1//
METHOD:REQUEST
X-WR-TIMEZONE:Europe/Athens
BEGIN:VEVENT
UID:https://thessaloniki.kinimatorama.net/event/180852
DTSTAMP:20250915T103000Z
DESCRIPTION:περισσότερες πληροφορίες: https://thessaloniki.kinimatorama.net
 /event/180852 
DTSTART:20250915T103000Z
DTEND:20250915T113000Z
GEO:+40.633903;+22.95648
LOCATION:Θεσσαλονίκη\, \nΣχολή Θετικών Επιστημών (ΣΘΕ) ΑΠΘ
SUMMARY:(ώρα) Ανοιχτή συνέλευση της ''Σύμπραξης για την επαναστατική αλληλε
 γγύη''
URL:https://thessaloniki.kinimatorama.net/event/180852
END:VEVENT
END:VCALENDAR
