BEGIN:VCALENDAR
VERSION:2.0
PRODID:-//demosphere.net//NONSGML kigkonsult.se iCalcreator 2.22.1//
METHOD:REQUEST
X-WR-TIMEZONE:Europe/Athens
BEGIN:VEVENT
UID:https://thessaloniki.kinimatorama.net/event/180881
DTSTAMP:20250915T090000Z
DESCRIPTION:περισσότερες πληροφορίες: https://thessaloniki.kinimatorama.net
 /event/180881 
DTSTART:20250915T090000Z
DTEND:20250915T100000Z
GEO:+37.995376;+23.743086
LOCATION:Αθήνα\, \nΔικαστήρια Ευελπίδων
SUMMARY:[Αθήνα] Κάλεσμα αλληλεγγύης σε Παλαιστίνιους συντρόφους
URL:https://thessaloniki.kinimatorama.net/event/180881
END:VEVENT
END:VCALENDAR
