BEGIN:VCALENDAR
VERSION:2.0
PRODID:-//demosphere.net//NONSGML kigkonsult.se iCalcreator 2.22.1//
METHOD:REQUEST
X-WR-TIMEZONE:Europe/Athens
BEGIN:VEVENT
UID:https://thessaloniki.kinimatorama.net/event/18106
DTSTAMP:20120312T163000Z
DESCRIPTION:περισσότερες πληροφορίες: https://thessaloniki.kinimatorama.net
 /event/18106 
DTSTART:20120312T163000Z
DTEND:20120312T173000Z
GEO:+40.633903;+22.95648
LOCATION:Θεσσαλονίκη\, \nΣχολή Θετικών Επιστημών (ΣΘΕ) ΑΠΘ
SUMMARY:Παγκόσμια ημέρα Zeitgeist\, Z-Day 2012 Θεσσαλονίκης
URL:https://thessaloniki.kinimatorama.net/event/18106
END:VEVENT
END:VCALENDAR
